BEGIN:VCALENDAR
VERSION:2.0
PRODID:-//Köyliön Lallintalo Lallis - ECPv6.15.15//NONSGML v1.0//EN
CALSCALE:GREGORIAN
METHOD:PUBLISH
X-ORIGINAL-URL:https://www.lallis.fi
X-WR-CALDESC:Tapahtumat ajalle Köyliön Lallintalo Lallis
REFRESH-INTERVAL;VALUE=DURATION:PT1H
X-Robots-Tag:noindex
X-PUBLISHED-TTL:PT1H
BEGIN:VTIMEZONE
TZID:Europe/Helsinki
BEGIN:DAYLIGHT
TZOFFSETFROM:+0200
TZOFFSETTO:+0300
TZNAME:EEST
DTSTART:20250330T010000
END:DAYLIGHT
BEGIN:STANDARD
TZOFFSETFROM:+0300
TZOFFSETTO:+0200
TZNAME:EET
DTSTART:20251026T010000
END:STANDARD
BEGIN:DAYLIGHT
TZOFFSETFROM:+0200
TZOFFSETTO:+0300
TZNAME:EEST
DTSTART:20260329T010000
END:DAYLIGHT
BEGIN:STANDARD
TZOFFSETFROM:+0300
TZOFFSETTO:+0200
TZNAME:EET
DTSTART:20261025T010000
END:STANDARD
BEGIN:DAYLIGHT
TZOFFSETFROM:+0200
TZOFFSETTO:+0300
TZNAME:EEST
DTSTART:20270328T010000
END:DAYLIGHT
BEGIN:STANDARD
TZOFFSETFROM:+0300
TZOFFSETTO:+0200
TZNAME:EET
DTSTART:20271031T010000
END:STANDARD
END:VTIMEZONE
BEGIN:VEVENT
DTSTART;TZID=Europe/Helsinki:20260328T200000
DTEND;TZID=Europe/Helsinki:20260329T010000
DTSTAMP:20260420T200923
CREATED:20260302T071548Z
LAST-MODIFIED:20260302T071548Z
UID:1173-1774728000-1774746000@www.lallis.fi
SUMMARY:KLAMYDIA
DESCRIPTION:Linkki tapahtumaan: \nhttps://euraevents.fi/events/lalliksen-juhlakeikalla-klamydia/ \n  \nOsta liput tästä\nhttps://events.liveto.io/events/lalliksen-juhlakeikalla-klamydia-283 \n  \n  \n 
URL:https://www.lallis.fi/tapahtuma/klamydia/
END:VEVENT
END:VCALENDAR